BEGIN:VCALENDAR
VERSION:2.0
PRODID:-//ABHB - ECPv6.15.16//NONSGML v1.0//EN
CALSCALE:GREGORIAN
METHOD:PUBLISH
X-ORIGINAL-URL:https://abhb.nl
X-WR-CALDESC:Evenementen voor ABHB
REFRESH-INTERVAL;VALUE=DURATION:PT1H
X-Robots-Tag:noindex
X-PUBLISHED-TTL:PT1H
BEGIN:VTIMEZONE
TZID:UTC
BEGIN:STANDARD
TZOFFSETFROM:+0000
TZOFFSETTO:+0000
TZNAME:UTC
DTSTART:20180101T000000
END:STANDARD
END:VTIMEZONE
BEGIN:VEVENT
DTSTART;TZID=UTC:20190408T190000
DTEND;TZID=UTC:20190408T220000
DTSTAMP:20260419T222523
CREATED:20190114T140613Z
LAST-MODIFIED:20260122T154717Z
UID:3584-1554750000-1554760800@abhb.nl
SUMMARY:Algemene Ledenvergadering 2019
DESCRIPTION:Op maandagavond 8 april staat de Algemene Ledenvergadering gepland. Tijdens deze avond zullen de belangrijke stukken van de ABHB worden besproken. En na afloop is het altijd goed om even met mede-vakgenoten te praten over het trimvak (andere onderwerpen mogen natuurlijk ook!). \nDe indeling van de avond ziet er als volgt uit:\n\nAgenda\nOpening/mededelingen\nVerslag vorige keer\nVerkiezing bestuur\nFinancieel resultaat 2018\nBegroting 2019\nContributiebesluit 2020 en rondvraag\n\nWe rekenen op alle ABHB-leden en willen graag weten wie we deze avond kunnen verwachten. Dus meld je aan!  Zie je geen aanmeldformulier\, log dan eerst even in en vul daarna het formulier in.    
URL:https://abhb.nl/agenda/algemene-ledenvergadering-2019/
ATTACH;FMTTYPE=image/jpeg:https://abhb.nl/wp-content/uploads/2025/04/de-schakel-nijkerk.jpg
END:VEVENT
END:VCALENDAR