BEGIN:VCALENDAR
VERSION:2.0
PRODID:-//ABHB - ECPv6.15.16//NONSGML v1.0//EN
CALSCALE:GREGORIAN
METHOD:PUBLISH
X-ORIGINAL-URL:https://abhb.nl
X-WR-CALDESC:Evenementen voor ABHB
REFRESH-INTERVAL;VALUE=DURATION:PT1H
X-Robots-Tag:noindex
X-PUBLISHED-TTL:PT1H
BEGIN:VTIMEZONE
TZID:UTC
BEGIN:STANDARD
TZOFFSETFROM:+0000
TZOFFSETTO:+0000
TZNAME:UTC
DTSTART:20180101T000000
END:STANDARD
END:VTIMEZONE
BEGIN:VEVENT
DTSTART;TZID=UTC:20190224T100000
DTEND;TZID=UTC:20190224T160000
DTSTAMP:20260419T235625
CREATED:20190124T092014Z
LAST-MODIFIED:20260122T154727Z
UID:3590-1551002400-1551024000@abhb.nl
SUMMARY:Workshop HondZakelijk Inzicht: START
DESCRIPTION:Marleen van Baal van HondZakelijk organiseert op 24 februari en op 14 april de workshops ‘HondZakelijk Inzicht: START’ en ‘HondZakelijk Inzicht: En Dóór’. Leden van de ABHB die zich direct inschrijven voor beide dagen krijgen € 50\,- korting. En wat kun je van de workshop verwachten? Lees meer over de workshop op de nieuwspagina.
URL:https://abhb.nl/agenda/workshop-hondzakelijk-inzicht-start/
ATTACH;FMTTYPE=image/jpeg:https://abhb.nl/wp-content/uploads/2025/04/hondzakelijk.jpg
END:VEVENT
BEGIN:VEVENT
DTSTART;TZID=UTC:20190224T130000
DTEND;TZID=UTC:20190224T153000
DTSTAMP:20260419T235625
CREATED:20190207T102530Z
LAST-MODIFIED:20260122T154726Z
UID:3607-1551013200-1551022200@abhb.nl
SUMMARY:Demonstratie Chinese Crested
DESCRIPTION:Op 24 februari geeft Jacqueline Planken een demonstratie over het hondenras Chinese Crested\, ook bekend als de gekuifde naakthond. Jacqueline fokt al 17 jaar dit ras en vertelt tijdens deze 2\,5 uur durende demonstratie van alles over het ras. Van de verzorging tot het trimmen. Ook zal zij het trimmen van het huismodel ‘powder puff’ laten zien. Natuurlijk is er genoeg ruimte om vragen te stellen. \nLocatie en tijd\nLocatie: ’t Trimmerke in Tilburg (Laura Drijvers Cupr) Tijd: 13.00 – 15.30 uur \nKosten\nDe kosten bedragen € 25\,- per persoon\, inclusief koffie/ thee en een snack. Voor meer informatie en om je aan te melden\, stuur je een mail aan info@trimmerke.nl. Je aanmelding is definitief zodra de betaling binnen is.
URL:https://abhb.nl/agenda/demonstratie-chinese-crested/
ATTACH;FMTTYPE=image/jpeg:https://abhb.nl/wp-content/uploads/2025/04/bianca-crested.jpg
END:VEVENT
END:VCALENDAR