BEGIN:VCALENDAR
VERSION:2.0
PRODID:-//ABHB - ECPv6.15.16//NONSGML v1.0//EN
CALSCALE:GREGORIAN
METHOD:PUBLISH
X-WR-CALNAME:ABHB
X-ORIGINAL-URL:https://abhb.nl
X-WR-CALDESC:Evenementen voor ABHB
REFRESH-INTERVAL;VALUE=DURATION:PT1H
X-Robots-Tag:noindex
X-PUBLISHED-TTL:PT1H
BEGIN:VTIMEZONE
TZID:UTC
BEGIN:STANDARD
TZOFFSETFROM:+0000
TZOFFSETTO:+0000
TZNAME:UTC
DTSTART:20180101T000000
END:STANDARD
END:VTIMEZONE
BEGIN:VEVENT
DTSTART;TZID=UTC:20190310T100000
DTEND;TZID=UTC:20190310T190000
DTSTAMP:20260419T223018
CREATED:20190225T144833Z
LAST-MODIFIED:20260122T154726Z
UID:3613-1552212000-1552244400@abhb.nl
SUMMARY:Sensei SpringBreak
DESCRIPTION:Sensei Nederland bestaat in maart 4 jaar\, 4 weken en 4 dagen. Dit jubileum laten de eigenaars niet aan zich voorbij gaan en geven daarom op 10 maart een feest. Met de lente in het vooruitzicht nemen de organisatoren met al hun collega’s graag een break. En wel een SpringBreak. \nWat is er te doen:\n– Workshops – Slijp- en onderhoudtips voor Ariën van Oord – Shoppen voor jezelf of voor je hond – Lezing over katten – Lezing over ergonomie – Je kunt al je vragen stellen aan Isabella Jane Doblas Jones – Als afsluiting is er een bbq\, ook vegetarisch of vegan Koop je tijdens SpringBreak een Senseischaar dan krijg je de aankoopprijs van je toegangskaart retour.
URL:https://abhb.nl/agenda/sensei-springbreak/
ATTACH;FMTTYPE=image/jpeg:https://abhb.nl/wp-content/uploads/2025/04/springbreak.jpg
END:VEVENT
BEGIN:VEVENT
DTSTART;TZID=UTC:20190316T090000
DTEND;TZID=UTC:20190316T170000
DTSTAMP:20260419T223018
CREATED:20190131T142133Z
LAST-MODIFIED:20260122T154725Z
UID:3599-1552726800-1552755600@abhb.nl
SUMMARY:Cursusdag Jeuk en Allergie bij de hond in Nieuwerkerk-Rotterdam
DESCRIPTION:Huidadvies voor Dieren organiseert op zaterdag 16 maart een cursusdag jeuk en allergie bij de hond. Deze cursusdag is interessant voor iedereen die in de dierenbranche werkt.  Dierenarts Kelly van Amersfort neemt je tijdens deze leerzame\, maar intensieve dag mee in de wereld van de dermatologie. \nOnderwerpen\n\nJeuk: wat is het en wat zijn mogelijke oorzaken?\nJeukende huidaandoeningen: vlooien\, mijten\, bacteriën\, gisten en voedselovergevoeligheid\nOorontsteking: van A tot Z\nAtopie: oorzaak\, symptomen\, diagnose en behandeling\n\nUiteraard komt er ook een stappenplan aan de orde hoe je jeuk kunt behandelen. De dag is inclusief lunch\, hand-outs en aanwezigheidscertificaat. \nInschrijven\nSchrijf je in door een e-mail te sturen naar info@huidadviesvoordieren.nl
URL:https://abhb.nl/agenda/cursusdag-jeuk-en-allergie-bij-de-hond/
ATTACH;FMTTYPE=image/jpeg:https://abhb.nl/wp-content/uploads/2025/04/kelly-van-amersfort.jpg
END:VEVENT
BEGIN:VEVENT
DTSTART;TZID=UTC:20190317T110000
DTEND;TZID=UTC:20190317T130000
DTSTAMP:20260419T223018
CREATED:20190207T122857Z
LAST-MODIFIED:20260122T154725Z
UID:3610-1552820400-1552827600@abhb.nl
SUMMARY:Demonstratie Golden Retriever
DESCRIPTION:Op 17 maart geeft Bianca Michels-Frederiks een demonstratie over het hondenras Golden Retriever. Bianca fokt al 27 jaar dit ras en is 23 jaar hondentrimster. Tijdens deze twee uur durende demonstratie vertelt Bianca van alles over het ras. Van de verzorging tot het trimmen. Natuurlijk is er genoeg ruimte om vragen te stellen. \nLocatie en tijd\nLocatie: ’t Trimmerke in Tilburg (Laura Drijvers Cupr) Tijd: 13.00 – 15.30 uur \nKosten\nDe kosten bedragen € 25\,- per persoon\, inclusief koffie/ thee en een snack. Er is voor deze demonstratie ruimte voor maximaal 12 deelnemers. Voor meer informatie en om je aan te melden\, stuur je een mail aan info@trimmerke.nl. Je aanmelding is definitief zodra de betaling binnen is.
URL:https://abhb.nl/agenda/demonstratie-golden-retriever/
ATTACH;FMTTYPE=image/jpeg:https://abhb.nl/wp-content/uploads/2025/04/bianca-golden.jpg
END:VEVENT
BEGIN:VEVENT
DTSTART;TZID=UTC:20190319T190000
DTEND;TZID=UTC:20190319T220000
DTSTAMP:20260419T223018
CREATED:20190117T100752Z
LAST-MODIFIED:20260122T154723Z
UID:3588-1553022000-1553032800@abhb.nl
SUMMARY:Gratis themabijeenkomst: Parasieten...hoe zit dat precies?
DESCRIPTION:Honden en katten maken onderdeel uit van het gezin. Met huisdieren haal je echter ook ongewenste gasten in huis: parasieten\, zoals vlooien\, teken en wormen. Je kent ze vast allemaal\, maar weet je ook hoe een besmetting tot stand komt\, wat de gevaren zijn en heel belangrijk hoe je ze op een juiste manier kunt bestrijden? Want niet alleen de huisdieren kunnen er last van hebben\, ook mensen (jouw klanten!) kunnen ziek worden. Anita van Steijn\, Breeder Specialist\, bij Bayer BV/Animal Health geeft je antwoorden op dit soort vragen. Een echte eye-opener waar jij je klanten van goed advies kunt voorzien. De themabijeenkomst is gratis en speciaal toegankelijk voor leden van de ABHB.  Zie je geen aanmeldformulier? Log dan eerst in en meld je daarna aan voor de ABHB-themabijeenkomst over Parasieten.
URL:https://abhb.nl/agenda/themabijeenkomst-parasieten-hoe-zit-dat-precies/
ATTACH;FMTTYPE=image/jpeg:https://abhb.nl/wp-content/uploads/2025/04/ongedierte.jpg
END:VEVENT
BEGIN:VEVENT
DTSTART;TZID=UTC:20190331T090000
DTEND;TZID=UTC:20190331T170000
DTSTAMP:20260419T223018
CREATED:20190131T142510Z
LAST-MODIFIED:20260122T154718Z
UID:3601-1554022800-1554051600@abhb.nl
SUMMARY:Cursusdag Jeuk en Allergie bij de hond in Zwolle
DESCRIPTION:Huidadvies voor Dieren organiseert op zondag 31 maart een cursusdag Jeuk en Allergie bij de hond. Deze cursusdag is interessant voor iedereen die in de dierenbranche werkt.  Dierenarts Kelly van Amersfort neemt je tijdens deze leerzame\, maar intensieve dag mee in de wereld van de dermatologie. \nOnderwerpen\n\nJeuk: wat is het en wat zijn mogelijke oorzaken?\nJeukende huidaandoeningen: vlooien\, mijten\, bacteriën\, gisten en voedselovergevoeligheid\nOorontsteking: van A tot Z\nAtopie: oorzaak\, symptomen\, diagnose en behandeling\n\nUiteraard komt er ook een stappenplan aan de orde hoe je jeuk kunt behandelen. De dag is inclusief lunch\, hand-outs en aanwezigheidscertificaat. \nInschrijven\nSchrijf je in door een e-mail te sturen naar info@huidadviesvoordieren.nl
URL:https://abhb.nl/agenda/cursusdag-jeuk-en-allergie-in-zwolle/
ATTACH;FMTTYPE=image/jpeg:https://abhb.nl/wp-content/uploads/2025/04/kelly-van-amersfort.jpg
END:VEVENT
END:VCALENDAR