BEGIN:VCALENDAR
VERSION:2.0
PRODID:-//ABHB - ECPv6.15.16//NONSGML v1.0//EN
CALSCALE:GREGORIAN
METHOD:PUBLISH
X-ORIGINAL-URL:https://abhb.nl
X-WR-CALDESC:Evenementen voor ABHB
REFRESH-INTERVAL;VALUE=DURATION:PT1H
X-Robots-Tag:noindex
X-PUBLISHED-TTL:PT1H
BEGIN:VTIMEZONE
TZID:UTC
BEGIN:STANDARD
TZOFFSETFROM:+0000
TZOFFSETTO:+0000
TZNAME:UTC
DTSTART:20180101T000000
END:STANDARD
END:VTIMEZONE
BEGIN:VEVENT
DTSTART;TZID=UTC:20190406T090000
DTEND;TZID=UTC:20190406T170000
DTSTAMP:20260419T211513
CREATED:20190131T143357Z
LAST-MODIFIED:20260122T154717Z
UID:3603-1554541200-1554570000@abhb.nl
SUMMARY:Cursusdag Huidproblemen bij de kat De Bilt-Utrecht
DESCRIPTION:Huidadvies voor Dieren organiseert op zaterdag 6 april een cursusdag huidproblemen bij de kat. Deze cursusdag is interessant voor iedereen die beroepsmatig met katten werkt. Dierenarts Kelly van Amersfort vertelt je alles over de verschillende huidaandoeningen bij de kat. \nOnderwerpen\n\nJeuk bij de kat\nVlooien en vlooienallergie\nVoedselovergevoeligheid\nFeline Atopie Syndroom\nKat met een kale buik / symmetrische alopecia\nKat met schilfers\n\nDe dag is inclusief lunch\, onbeperkt koffie\, thee\, water en fris en hand-outs en een aanwezigheidscertificaat. \nInschrijven\nSchrijf je in door een e-mail te sturen naar info@huidadviesvoordieren.nl
URL:https://abhb.nl/agenda/cursusdag-huidproblemen-bij-de-kat-de-bilt-utrecht/
ATTACH;FMTTYPE=image/jpeg:https://abhb.nl/wp-content/uploads/2025/04/kelly-van-amersfort-natuur.jpg
END:VEVENT
BEGIN:VEVENT
DTSTART;TZID=UTC:20190408T190000
DTEND;TZID=UTC:20190408T220000
DTSTAMP:20260419T211513
CREATED:20190114T140613Z
LAST-MODIFIED:20260122T154717Z
UID:3584-1554750000-1554760800@abhb.nl
SUMMARY:Algemene Ledenvergadering 2019
DESCRIPTION:Op maandagavond 8 april staat de Algemene Ledenvergadering gepland. Tijdens deze avond zullen de belangrijke stukken van de ABHB worden besproken. En na afloop is het altijd goed om even met mede-vakgenoten te praten over het trimvak (andere onderwerpen mogen natuurlijk ook!). \nDe indeling van de avond ziet er als volgt uit:\n\nAgenda\nOpening/mededelingen\nVerslag vorige keer\nVerkiezing bestuur\nFinancieel resultaat 2018\nBegroting 2019\nContributiebesluit 2020 en rondvraag\n\nWe rekenen op alle ABHB-leden en willen graag weten wie we deze avond kunnen verwachten. Dus meld je aan!  Zie je geen aanmeldformulier\, log dan eerst even in en vul daarna het formulier in.    
URL:https://abhb.nl/agenda/algemene-ledenvergadering-2019/
ATTACH;FMTTYPE=image/jpeg:https://abhb.nl/wp-content/uploads/2025/04/de-schakel-nijkerk.jpg
END:VEVENT
BEGIN:VEVENT
DTSTART;TZID=UTC:20190414T100000
DTEND;TZID=UTC:20190414T160000
DTSTAMP:20260419T211513
CREATED:20190129T074628Z
LAST-MODIFIED:20260122T154717Z
UID:3597-1555236000-1555257600@abhb.nl
SUMMARY:Workshop HondZakelijk Inzicht: EN DOOR!
DESCRIPTION:Je bedrijf is in volle gang\, de fundering ligt er stevig bij en nu is het tijd om te gaan bouwen. HondZakelijk coacht op de basis en de binnenkant van jouw bedrijf\, dus ook bij het bouwen blijft het belangrijk dat jij weet wat jij wil. Dat elke stap een weloverwogen stap is\, vanuit jouw visie\, jouw missie en jouw kennis en ervaring. Bij HondZakelijk Inzicht: EN DOOR! bekijkt coach Marleen van Baal naar waar je bedrijf nu staat. Hoe gaat het nu? Wat gaat goed\, wat kan beter. Waar moet je misschien wel meer doen en wat kun je beter weglaten. De workshopdag ziet er als volgt uit: \n\nVisie\, missie: heb je het scherp waar jij voor staat?\nUniek zijn is niet moeilijk\, dat bén je. Maar draag je dat ook uit?\nJouw bedrijf onder de loep: wat gaat goed\, wat kan beter\nPraktische handvatten om direct te kunnen verbeteren\nHoe ga je om met zaken die anders lopen dan verwacht\nBusiness Boost: laat je inspireren!\nKlanten aantrekken én binden\nPersoonlijk stappenplan\n\nNa deze dag: \n\nHeb je helder waar jij voor staat en hoe je dat uitdraagt\nZie je hoe jouw bedrijf kan groeien\nBen je enorm geïnspireerd in hóe je dat kunt gaan aanpakken\n\nLocatie en tijd\nLocatie: Thuis bij Fien\, Oude Klapstraat 10\, 6602 AG Wiijchen Tijd: 10.00 – 16.00 uur \nKosten\nDe kosten voor één workshop bedraagt €157\,- exclusief btw. Dit is inclusief High Tea. Voor meer informatie en om je aan te melden\, stuur je eenvoudig een mail aan Marleen.
URL:https://abhb.nl/agenda/workshop-hondzakelijk-inzicht-en-door/
ATTACH;FMTTYPE=image/jpeg:https://abhb.nl/wp-content/uploads/2025/04/hondzakelijk.jpg
END:VEVENT
END:VCALENDAR