BEGIN:VCALENDAR
VERSION:2.0
PRODID:-//ABHB - ECPv6.15.16//NONSGML v1.0//EN
CALSCALE:GREGORIAN
METHOD:PUBLISH
X-ORIGINAL-URL:https://abhb.nl
X-WR-CALDESC:Evenementen voor ABHB
REFRESH-INTERVAL;VALUE=DURATION:PT1H
X-Robots-Tag:noindex
X-PUBLISHED-TTL:PT1H
BEGIN:VTIMEZONE
TZID:UTC
BEGIN:STANDARD
TZOFFSETFROM:+0000
TZOFFSETTO:+0000
TZNAME:UTC
DTSTART:20180101T000000
END:STANDARD
END:VTIMEZONE
BEGIN:VEVENT
DTSTART;TZID=UTC:20190615T100000
DTEND;TZID=UTC:20190615T170000
DTSTAMP:20260419T180247
CREATED:20190509T081539Z
LAST-MODIFIED:20260122T154712Z
UID:3619-1560592800-1560618000@abhb.nl
SUMMARY:Poodle vs Doodle
DESCRIPTION:Zaterdag 15 juni legt Stefan Oussoren het verschil uit tussen een poedel en een doodle. Tijdens deze dag laat hij zien hoe je ervoor kan zorgen dat een doodle niet op een poedel gaat lijken en andersom. Wil jezelf ook het juiste model bij het juiste ras knippen? Doe dan mee met de workshop waarin Stefan je begeleidt om een poedel of een doodle te knippen. \nKosten\nDemo’s en kijken: € 45\,- Demo’s en workshop: € 95\,- Geef je op per mail of per telefoon 06-18283713. Zodra je betaalt hebt\, is je inschrijving definitief.
URL:https://abhb.nl/agenda/poodle-vs-doodle/
LOCATION:Verslag ALV 13 april 2025
ATTACH;FMTTYPE=image/jpeg:https://abhb.nl/wp-content/uploads/2025/04/stefan-oussoren.jpg
END:VEVENT
BEGIN:VEVENT
DTSTART;TZID=UTC:20190625T190000
DTEND;TZID=UTC:20190625T220000
DTSTAMP:20260419T180247
CREATED:20190418T070625Z
LAST-MODIFIED:20260122T154706Z
UID:3615-1561489200-1561500000@abhb.nl
SUMMARY:Gratis ABHB Instagram-workshop
DESCRIPTION:Instagram heeft nu 4 miljoen gebruikers in Nederland en groeit als kool. Het sociale medium wordt daardoor steeds interessanter voor bedrijven. Waarom? Omdat je met Instagram een warme band opbouwt met je vaste klanten én er tegelijkertijd nieuwe klanten mee kunt bereiken. Behalve twintigers en dertigers\, gebruiken steeds meer veertigers en vijftigers het platform. Alle reden dus om je eens goed te verdiepen in Instagram en je in te schrijven voor de gratis ABHB Instagram-workshop! \nInhoud van de workshop\nTijdens de workshop leer je alle basics van Instagram en hoe je in zo weinig mogelijk tijd een maximaal effect kunt bereiken. De volgende onderwerpen komen aan bod: \n\nWat zijn de zakelijke kansen van Instagram?\nWat is een succesvolle foto of video en welke plaats je beter niet?\nHoe vind je volgers in je doelgroep?\nHoe ziet een goede bio eruit?\nHoe creëer je interactie met (potentiële) klanten?\nWelke hashtags kun je beter wel of niet gebruiken?\nWat is het verschil tussen feed\, stories en IGTV?\nHoe werken statistieken?\nAdverteren: hoe werkt het?\nWat zijn de meest gemaakte fouten en hoe voorkom je die?\nHeel veeI Instagram tips & tricks!\n\nDe workshop is heel praktisch van opzet. Na een gedegen uitleg ga je ook zelf aan de slag met je eigen Instagram-account. \nJe trainer: Jeroen ’s-Gravendijk\nJeroen ‘s-Gravendijk heeft een hotelschool-achtergrond en heeft daar geleerd hoe je mensen kan beïnvloeden op een sociale manier. Via een uitstapje naar Direct Marketing\, waar hij als klantenservicemanager werkzaam was\, startte hij in 2010 met zijn social mediabureau The New Media Factory. Jeroen is als social mediastrateeg gespecialiseerd in het omzetten van bedrijfsdoelstellingen naar resultaten door het inzetten van social media. \nVoor wie?\nVoor trimmers die Instagram op een succesvolle manier zakelijk willen inzetten. \nWat heb je nodig?\nEen smartphone met een werkend Instagram-account\, liefst een bedrijfsaccount. \nDatum en locatie\nDinsdagavond 25 juni in Van der Valk Hotel De Bilt – Utrecht\, De Holle Bilt 1\, 3732 HM De Bilt \nProgramma\n19.00 uur Ontvangst met koffie & thee 19.30 uur Start kennisavond 22.00 uur Afsluiting UPDATE: de workshop is op dit moment volledig volgeboekt. Je kunt je dus niet meer aanmelden.
URL:https://abhb.nl/agenda/gratis-abhb-instagram-workshop/
ATTACH;FMTTYPE=image/jpeg:https://abhb.nl/wp-content/uploads/2025/04/instagram-uitnodiging.jpg
END:VEVENT
END:VCALENDAR